BEGIN:VCALENDAR
VERSION:2.0
PRODID:-//MME
CALSCALE:GREGORIAN
METHOD:PUBLISH
X-WR-CALNAME:MME
X-ORIGINAL-URL:https://mme.buet.ac.bd/event/capstone-project-fund-award-by-salam-steel/
X-WR-CALDESC:Capstone Project Fund Award by Salam Steel
BEGIN:VEVENT
DTSTART:20250527T120000
DTEND:20250527T143000
SUMMARY:Capstone Project Fund Award by Salam Steel
DESCRIPTION:
LOCATION:
END:VEVENT
END:VCALENDAR
