BEGIN:VCALENDAR
VERSION:2.0
PRODID:-//MME
CALSCALE:GREGORIAN
METHOD:PUBLISH
X-WR-CALNAME:MME
X-ORIGINAL-URL:https://mme.buet.ac.bd/event/pg-seminar-on-rules-and-regulations/
X-WR-CALDESC:PG Seminar on Rules and Regulations
BEGIN:VEVENT
DTSTART:20210811T193000
DTEND:20210811T203000
SUMMARY:PG Seminar on Rules and Regulations
DESCRIPTION:
LOCATION:
END:VEVENT
END:VCALENDAR
