BEGIN:VCALENDAR
VERSION:2.0
PRODID:-//MME
CALSCALE:GREGORIAN
METHOD:PUBLISH
X-WR-CALNAME:MME
X-ORIGINAL-URL:https://mme.buet.ac.bd/event/international-credit-mobility-link-programme-with-university-of-limerick-and-wroclaw-university-of-science-and-technology/
X-WR-CALDESC:International Credit Mobility Link Programme with University of Limerick and Wroclaw University of Science and Technology
BEGIN:VEVENT
DTSTART:20191222T000000
DTEND:20200222T000000
SUMMARY:International Credit Mobility Link Programme with University of Limerick and Wroclaw University of Science and Technology
DESCRIPTION:
LOCATION:Council Bhaban
END:VEVENT
END:VCALENDAR
