BEGIN:VCALENDAR
VERSION:2.0
PRODID:-//MME
CALSCALE:GREGORIAN
METHOD:PUBLISH
X-WR-CALNAME:MME
X-ORIGINAL-URL:https://mme.buet.ac.bd/event/seminar-on-metal-surface-coating/
X-WR-CALDESC:Seminar on Metal Surface Coating
BEGIN:VEVENT
DTSTART:20140912T120000
DTEND:20140912T120000
SUMMARY:Seminar on Metal Surface Coating
DESCRIPTION:
LOCATION:
END:VEVENT
END:VCALENDAR
