BEGIN:VCALENDAR
VERSION:2.0
PRODID:-//MME
CALSCALE:GREGORIAN
METHOD:PUBLISH
X-WR-CALNAME:MME
X-ORIGINAL-URL:https://mme.buet.ac.bd/event/workshop-on-corrosion-of-steel-in-concrete/
X-WR-CALDESC:Workshop on Corrosion of Steel in Concrete
BEGIN:VEVENT
DTSTART:20130705T090000
DTEND:20130705T180000
SUMMARY:Workshop on Corrosion of Steel in Concrete
DESCRIPTION:
LOCATION:MME Seminar Room, OAB Building, 1st Floor, Bangladesh University of Engineering and Technology
END:VEVENT
END:VCALENDAR
